BEGIN:VCALENDAR
VERSION:2.0
PRODID:-//wp-events-plugin.com//7.2.3.1//EN
TZID:Asia/Dhaka
X-WR-TIMEZONE:Asia/Dhaka
BEGIN:VEVENT
UID:10@rbp.gov.bt
DTSTART:20250314T000000Z
DTEND:20250314T000000Z
DTSTAMP:20250315T074717Z
URL:https://rbp.gov.bt/events/strengthening-community-police-relations/
SUMMARY:Strengthening Community-Police Relations
DESCRIPTION:A team from the Tsirang Police Station\, consisting of personne
 l from the Crime and Traffic\, undertook a Mobile Community Policing initi
 ative across five chiwogs within Phuntenchu Gewog\, Tsirang\, over six day
 s\, specifically from March 8\, 2025\, to March 13\, 2025. The primary foc
 us of this initiative was on the following key areas objectives:\n\n 	Enha
 ncing goodwill and cultivating closer relationships between the citizenry 
 and the Royal Bhutan Police to collaboratively strive toward attaining the
  Royal Bhutan Police's objectives and vision.\n 	Augmenting the presence o
 f law enforcement\, reinforcing societal order\, and promoting community e
 ngagement in crime prevention prevention.\n 	Enhancing constructive engage
 ments between law enforcement personnel and community members.\n 	Fosterin
 g trust and collaboration between law enforcement agencies and the local c
 ommunity.\n 	Mitigating criminal activities and fostering a sustainable pa
 rtnership with the community members.\n 	Mitigating grievances directed at
  law enforcement agencies while promoting increased reporting of incidents
  and crimes.\n 	Reiterating the fundamental responsibilities of individual
 s as citizens of Bhutan.\n\n[gallery link="file" size="medium" ids="10942\
 ,10941\,10940\,10939\,10938\,10937\,10936\,10935\,10934\,10933"]
ATTACH;FMTTYPE=image/jpeg:https://rbp.gov.bt/wp-content/uploads/2025/03/10
 .jpg
CATEGORIES:Awareness Programme
END:VEVENT
END:VCALENDAR