BEGIN:VCALENDAR
VERSION:2.0
PRODID:-//wp-events-plugin.com//7.2.3.1//EN
TZID:Asia/Dhaka
X-WR-TIMEZONE:Asia/Dhaka
BEGIN:VEVENT
UID:9@rbp.gov.bt
DTSTART;TZID=Asia/Thimphu;VALUE=DATE:20250313
DTEND;TZID=Asia/Thimphu;VALUE=DATE:20250314
DTSTAMP:20250315T073013Z
URL:https://rbp.gov.bt/events/proactive-measures-to-mitigate-chorten-vanda
 lism-within-division-x-mongar/
SUMMARY:Proactive measures to mitigate chorten vandalism within Division-X\
 , Mongar.
DESCRIPTION:In a proactive effort to safeguard against chorten vandalism wi
 thin Division X in Mongar and Lhuentse Dzongkhags\, the Superintendent of 
 Police (SP) initiated an initiative to prevent such vandalism at this year
 's commencement. This initiative comprises weekly foot patrols conducted b
 y personnel\, concentrating on areas with many chortens. Furthermore\, the
 se patrols are coordinated with local communities\, which actively report 
 suspicious activities and collaborate with law enforcement to raise awaren
 ess among their neighbours regarding the significance of preserving these 
 sacred structures.
ATTACH;FMTTYPE=image/jpeg:https://rbp.gov.bt/wp-content/uploads/2025/03/1-
 8.jpg
CATEGORIES:Awareness Programme
END:VEVENT
BEGIN:VTIMEZONE
TZID:Asia/Thimphu
X-LIC-LOCATION:Asia/Thimphu
BEGIN:STANDARD
DTSTART:20240313T000000
TZOFFSETFROM:+0600
TZOFFSETTO:+0600
TZNAME:+06
END:STANDARD
END:VTIMEZONE
END:VCALENDAR