BEGIN:VCALENDAR
VERSION:2.0
PRODID:-//wp-events-plugin.com//7.2.3.1//EN
TZID:Asia/Dhaka
X-WR-TIMEZONE:Asia/Dhaka
BEGIN:VEVENT
UID:3@rbp.gov.bt
DTSTART;TZID=Asia/Thimphu;VALUE=DATE:20190809
DTEND;TZID=Asia/Thimphu;VALUE=DATE:20190810
DTSTAMP:20241101T183937Z
URL:https://rbp.gov.bt/events/healthy-civil-service/
SUMMARY:Women and Child Protection Desk at Royal Bhutan Police station\, Pe
 maGatshel
DESCRIPTION:Healthy Civil Service\, Healthy Nation-for better service to ts
 a-wa-sum.
ATTACH;FMTTYPE=image/jpeg:https://rbp.gov.bt/wp-content/uploads/2024/10/ev
 ent-e1730834735464.jpg
CATEGORIES:Sport Events
LOCATION:Express Highway\, Thim Throm\, Thimphu\, Bhutan\, Thimphu\, Thimph
 u\, 11001\, Thimphu\, Bhutan
X-APPLE-STRUCTURED-LOCATION;VALUE=URI;X-ADDRESS=Thim Throm\, Thimphu\, Bhut
 an\, Thimphu\, Thimphu\, 11001\, Thimphu\, Bhutan;X-APPLE-RADIUS=100;X-TIT
 LE=Express Highway:geo:0,0
END:VEVENT
BEGIN:VTIMEZONE
TZID:Asia/Thimphu
X-LIC-LOCATION:Asia/Thimphu
BEGIN:STANDARD
DTSTART:20180809T000000
TZOFFSETFROM:+0600
TZOFFSETTO:+0600
TZNAME:+06
END:STANDARD
END:VTIMEZONE
END:VCALENDAR