BEGIN:VCALENDAR
VERSION:2.0
PRODID:-//wp-events-plugin.com//7.2.3.1//EN
TZID:Asia/Dhaka
X-WR-TIMEZONE:Asia/Dhaka
BEGIN:VEVENT
UID:5@rbp.gov.bt
DTSTART;TZID=Asia/Thimphu;VALUE=DATE:20250313
DTEND;TZID=Asia/Thimphu;VALUE=DATE:20250315
DTSTAMP:20250314T104418Z
URL:https://rbp.gov.bt/events/division-iii-phuentsholing-crime-conference/
SUMMARY:Division III Phuentsholing Crime Conference
DESCRIPTION:The Division-III Phuentsholing Crime Conference commenced on 13
 th March\, 2025 at the Royal Bhutan Police Conference Hall in Phuentsholin
 g. The conference was presided over by the Senior Superintendent of Police
  (SSP) alongside officers from the Police Stations under Division III. The
  inaugural day focused on presentations by the Officers-in-Charge (OCs)\, 
 which encompassed crime statistics\, prevention strategies\, challenges en
 countered\, and administrative agendas\, including discussions on the 2025
  Crime Prevention Theme. The subsequent day will be dedicated to examining
  case audits\, actions undertaken by the police stations\, and standardize
 d Police Station profiling formats.\n\n   
ATTACH;FMTTYPE=image/jpeg:https://rbp.gov.bt/wp-content/uploads/2025/03/1-
 6.jpg
CATEGORIES:Conference
END:VEVENT
BEGIN:VTIMEZONE
TZID:Asia/Thimphu
X-LIC-LOCATION:Asia/Thimphu
BEGIN:STANDARD
DTSTART:20240313T000000
TZOFFSETFROM:+0600
TZOFFSETTO:+0600
TZNAME:+06
END:STANDARD
END:VTIMEZONE
END:VCALENDAR